BEGIN:VCALENDAR
VERSION:2.0
PRODID:-//3nity.com//3nity CMS//EN
BEGIN:VEVENT
SUMMARY:Contemporary Service
UID:2026-07-18-1183185@www.aldersgate.com
SEQUENCE:0
STATUS:CONFIRMED
DTSTART:20260913T103000
DTEND:20260913T113000
DTSTAMP:20161222T120000
LOCATION: Aldersgate United Methodist Church, 9530 Starkey Road, Seminole, FL 33777
DESCRIPTION:
URL:http://www.aldersgate.com
END:VEVENT
END:VCALENDAR
